Package: SparseSignatures Version: 2.17.0 Command: /Library/Frameworks/R.framework/Resources/bin/R CMD build --keep-empty-dirs --no-resave-data SparseSignatures StartedAt: 2025-02-03 18:28:12 -0500 (Mon, 03 Feb 2025) EndedAt: 2025-02-03 18:32:37 -0500 (Mon, 03 Feb 2025) EllapsedTime: 264.9 seconds RetCode: 0 Status: OK PackageFile: SparseSignatures_2.17.0.tar.gz PackageFileSize: 1.462 MiB