Package: SparseSignatures Version: 2.17.0 Command: /home/biocbuild/bbs-3.21-bioc/R/bin/R CMD check --install=check:SparseSignatures.install-out.txt --library=/home/biocbuild/bbs-3.21-bioc/R/site-library --timings SparseSignatures_2.17.0.tar.gz StartedAt: 2025-02-04 02:58:37 -0500 (Tue, 04 Feb 2025) EndedAt: 2025-02-04 03:10:05 -0500 (Tue, 04 Feb 2025) EllapsedTime: 687.8 seconds RetCode: 0 Status: OK CheckDir: SparseSignatures.Rcheck Warnings: 0