Package: SparseSignatures Version: 2.17.0 Command: /home/biocbuild/bbs-3.21-bioc/R/bin/R CMD INSTALL SparseSignatures StartedAt: 2025-02-09 15:28:13 -0500 (Sun, 09 Feb 2025) EndedAt: 2025-02-09 15:28:53 -0500 (Sun, 09 Feb 2025) EllapsedTime: 40.0 seconds RetCode: 0 Status: OK