Package: SparseSignatures Version: 2.17.0 Command: E:\biocbuild\bbs-3.21-bioc\R\bin\R.exe CMD check --no-multiarch --install=check:SparseSignatures.install-out.txt --library=E:\biocbuild\bbs-3.21-bioc\R\library --no-vignettes --timings SparseSignatures_2.17.0.tar.gz StartedAt: 2025-02-10 05:39:55 -0500 (Mon, 10 Feb 2025) EndedAt: 2025-02-10 05:49:23 -0500 (Mon, 10 Feb 2025) EllapsedTime: 567.9 seconds RetCode: 0 Status: OK CheckDir: SparseSignatures.Rcheck Warnings: 0