Package: SparseSignatures Version: 2.17.0 Command: E:\biocbuild\bbs-3.21-bioc\R\bin\R.exe CMD INSTALL SparseSignatures StartedAt: 2025-02-03 16:48:48 -0500 (Mon, 03 Feb 2025) EndedAt: 2025-02-03 16:49:44 -0500 (Mon, 03 Feb 2025) EllapsedTime: 56.5 seconds RetCode: 0 Status: OK