Package: SpatialCPie Version: 1.23.0 Command: /Library/Frameworks/R.framework/Resources/bin/R CMD INSTALL SpatialCPie StartedAt: 2025-02-12 15:24:50 -0500 (Wed, 12 Feb 2025) EndedAt: 2025-02-12 15:25:23 -0500 (Wed, 12 Feb 2025) EllapsedTime: 33.5 seconds RetCode: 0 Status: OK