Package: SpatialCPie Version: 1.23.0 Command: /home/biocbuild/bbs-3.21-bioc/R/bin/R CMD build --keep-empty-dirs --no-resave-data SpatialCPie StartedAt: 2025-02-09 19:22:28 -0500 (Sun, 09 Feb 2025) EndedAt: 2025-02-09 19:23:16 -0500 (Sun, 09 Feb 2025) EllapsedTime: 48.0 seconds RetCode: 0 Status: OK PackageFile: SpatialCPie_1.23.0.tar.gz PackageFileSize: 991 KiB