Package: SpatialCPie Version: 1.23.0 Command: /home/biocbuild/bbs-3.21-bioc/R/bin/R CMD INSTALL SpatialCPie StartedAt: 2025-02-09 15:17:06 -0500 (Sun, 09 Feb 2025) EndedAt: 2025-02-09 15:17:30 -0500 (Sun, 09 Feb 2025) EllapsedTime: 23.8 seconds RetCode: 0 Status: OK