Package: SpatialDecon Version: 1.17.0 Command: rm -rf SpatialDecon.buildbin-libdir && mkdir SpatialDecon.buildbin-libdir && /Users/biocbuild/BBS/utils/build-universal.sh SpatialDecon_1.17.0.tar.gz /Library/Frameworks/R.framework/Resources/bin/R SpatialDecon.buildbin-libdir StartedAt: 2025-02-09 22:31:56 -0500 (Sun, 09 Feb 2025) EndedAt: 2025-02-09 22:32:07 -0500 (Sun, 09 Feb 2025) EllapsedTime: 11.2 seconds RetCode: 0 Status: OK PackageFile: SpatialDecon_1.17.0.tgz PackageFileSize: 4.295 MiB