Package: SpatialDecon Version: 1.17.0 Command: /Library/Frameworks/R.framework/Resources/bin/R CMD build --keep-empty-dirs --no-resave-data SpatialDecon StartedAt: 2025-02-09 17:41:09 -0500 (Sun, 09 Feb 2025) EndedAt: 2025-02-09 17:42:06 -0500 (Sun, 09 Feb 2025) EllapsedTime: 57.6 seconds RetCode: 0 Status: OK PackageFile: SpatialDecon_1.17.0.tar.gz PackageFileSize: 5.281 MiB