Package: SpatialDecon Version: 1.17.0 Command: /Library/Frameworks/R.framework/Resources/bin/R CMD INSTALL SpatialDecon StartedAt: 2025-02-03 15:50:46 -0500 (Mon, 03 Feb 2025) EndedAt: 2025-02-03 15:50:55 -0500 (Mon, 03 Feb 2025) EllapsedTime: 9.4 seconds RetCode: 0 Status: OK