Package: SpatialDecon Version: 1.17.0 Command: /Library/Frameworks/R.framework/Resources/bin/R CMD build --keep-empty-dirs --no-resave-data SpatialDecon StartedAt: 2025-02-09 18:33:01 -0500 (Sun, 09 Feb 2025) EndedAt: 2025-02-09 18:35:37 -0500 (Sun, 09 Feb 2025) EllapsedTime: 156.4 seconds RetCode: 0 Status: OK PackageFile: SpatialDecon_1.17.0.tar.gz PackageFileSize: 5.277 MiB