Package: SpatialDecon Version: 1.17.0 Command: /Library/Frameworks/R.framework/Resources/bin/R CMD check --install=check:SpatialDecon.install-out.txt --library=/Library/Frameworks/R.framework/Resources/library --no-vignettes --timings SpatialDecon_1.17.0.tar.gz StartedAt: 2025-02-03 23:30:25 -0500 (Mon, 03 Feb 2025) EndedAt: 2025-02-03 23:40:14 -0500 (Mon, 03 Feb 2025) EllapsedTime: 589.1 seconds RetCode: 0 Status: OK CheckDir: SpatialDecon.Rcheck Warnings: 0