Package: SpatialDecon Version: 1.17.0 Command: /Library/Frameworks/R.framework/Resources/bin/R CMD INSTALL SpatialDecon StartedAt: 2025-02-03 15:30:39 -0500 (Mon, 03 Feb 2025) EndedAt: 2025-02-03 15:31:10 -0500 (Mon, 03 Feb 2025) EllapsedTime: 30.8 seconds RetCode: 0 Status: OK