Package: SpatialDecon Version: 1.17.0 Command: /home/biocbuild/bbs-3.21-bioc/R/bin/R CMD INSTALL SpatialDecon StartedAt: 2025-02-03 16:07:48 -0500 (Mon, 03 Feb 2025) EndedAt: 2025-02-03 16:08:11 -0500 (Mon, 03 Feb 2025) EllapsedTime: 23.4 seconds RetCode: 0 Status: OK