Package: SpatialDecon Version: 1.17.0 Command: rm -rf SpatialDecon.buildbin-libdir && mkdir SpatialDecon.buildbin-libdir && E:\biocbuild\bbs-3.21-bioc\R\bin\R.exe CMD INSTALL --build --library=SpatialDecon.buildbin-libdir SpatialDecon_1.17.0.tar.gz StartedAt: 2025-02-04 08:59:38 -0500 (Tue, 04 Feb 2025) EndedAt: 2025-02-04 09:00:18 -0500 (Tue, 04 Feb 2025) EllapsedTime: 40.7 seconds RetCode: 0 Status: OK PackageFile: SpatialDecon_1.17.0.zip PackageFileSize: 3.357 MiB