Package: SpatialDecon Version: 1.17.0 Command: chmod a+r SpatialDecon -R && E:\biocbuild\bbs-3.21-bioc\R\bin\R.exe CMD build --keep-empty-dirs --no-resave-data SpatialDecon StartedAt: 2025-02-03 22:00:43 -0500 (Mon, 03 Feb 2025) EndedAt: 2025-02-03 22:04:02 -0500 (Mon, 03 Feb 2025) EllapsedTime: 199.7 seconds RetCode: 0 Status: OK PackageFile: SpatialDecon_1.17.0.tar.gz PackageFileSize: 4.332 MiB