Package: SpatialDecon Version: 1.17.0 Command: E:\biocbuild\bbs-3.21-bioc\R\bin\R.exe CMD INSTALL SpatialDecon StartedAt: 2025-02-09 15:44:30 -0500 (Sun, 09 Feb 2025) EndedAt: 2025-02-09 15:45:30 -0500 (Sun, 09 Feb 2025) EllapsedTime: 60.2 seconds RetCode: 0 Status: OK