Package: SpatialExperimentIO Version: 0.99.7 Maintainer: Yixing E. Dong MaintainerEmail: estelladong729 at gmail.com git_url: https://git.bioconductor.org/packages/SpatialExperimentIO git_branch: devel git_last_commit: c8f4452 git_last_commit_date: 2025-02-03 08:33:25 -0500 (Mon, 03 Feb 2025)