Package: SpatialExperimentIO Version: 0.99.7 Command: /Library/Frameworks/R.framework/Resources/bin/R CMD build --keep-empty-dirs --no-resave-data SpatialExperimentIO StartedAt: 2025-02-03 18:17:31 -0500 (Mon, 03 Feb 2025) EndedAt: 2025-02-03 18:17:52 -0500 (Mon, 03 Feb 2025) EllapsedTime: 21.2 seconds RetCode: 0 Status: OK PackageFile: SpatialExperimentIO_0.99.7.tar.gz PackageFileSize: 608.1 KiB