Package: SpatialExperimentIO Version: 0.99.7 Command: /Library/Frameworks/R.framework/Resources/bin/R CMD check --install=check:SpatialExperimentIO.install-out.txt --library=/Library/Frameworks/R.framework/Resources/library --no-vignettes --timings SpatialExperimentIO_0.99.7.tar.gz StartedAt: 2025-02-03 22:06:12 -0500 (Mon, 03 Feb 2025) EndedAt: 2025-02-03 22:07:35 -0500 (Mon, 03 Feb 2025) EllapsedTime: 82.9 seconds RetCode: 0 Status: OK CheckDir: SpatialExperimentIO.Rcheck Warnings: 0