Package: SpatialExperimentIO Version: 0.99.7 Command: /Library/Frameworks/R.framework/Resources/bin/R CMD INSTALL SpatialExperimentIO StartedAt: 2025-02-03 15:47:18 -0500 (Mon, 03 Feb 2025) EndedAt: 2025-02-03 15:47:31 -0500 (Mon, 03 Feb 2025) EllapsedTime: 12.7 seconds RetCode: 0 Status: OK