Package: SpatialExperimentIO Version: 0.99.4 Command: /home/biocbuild/R/R/bin/R CMD INSTALL SpatialExperimentIO StartedAt: 2025-01-29 19:55:45 -0000 (Wed, 29 Jan 2025) EndedAt: 2025-01-29 19:56:27 -0000 (Wed, 29 Jan 2025) EllapsedTime: 41.7 seconds RetCode: 0 Status: OK