############################################################################## ############################################################################## ### ### Running command: ### ### /Library/Frameworks/R.framework/Resources/bin/R CMD build --keep-empty-dirs --no-resave-data SpatialExperimentIO ### ############################################################################## ############################################################################## * checking for file ‘SpatialExperimentIO/DESCRIPTION’ ... OK * preparing ‘SpatialExperimentIO’: * checking DESCRIPTION meta-information ... OK * installing the package to build vignettes * creating vignettes ... OK * checking for LF line-endings in source and make files and shell scripts * checking for empty or unneeded directories NB: this package now depends on R (>= 4.1.0) WARNING: Added dependency on R >= 4.1.0 because package code uses the pipe |> or function shorthand \(...) syntax added in R 4.1.0. File(s) using such syntax: ‘readCosmxSXE.R’ ‘readXeniumSXE.R’ * building ‘SpatialExperimentIO_0.99.7.tar.gz’