Package: SpatialExperimentIO Version: 0.99.7 Command: /Library/Frameworks/R.framework/Resources/bin/R CMD build --keep-empty-dirs --no-resave-data SpatialExperimentIO StartedAt: 2025-02-09 18:33:05 -0500 (Sun, 09 Feb 2025) EndedAt: 2025-02-09 18:34:03 -0500 (Sun, 09 Feb 2025) EllapsedTime: 58.2 seconds RetCode: 0 Status: OK PackageFile: SpatialExperimentIO_0.99.7.tar.gz PackageFileSize: 608 KiB