Package: SpatialExperimentIO Version: 0.99.7 Command: /Library/Frameworks/R.framework/Resources/bin/R CMD check --install=check:SpatialExperimentIO.install-out.txt --library=/Library/Frameworks/R.framework/Resources/library --no-vignettes --timings SpatialExperimentIO_0.99.7.tar.gz StartedAt: 2025-02-03 23:30:33 -0500 (Mon, 03 Feb 2025) EndedAt: 2025-02-03 23:34:36 -0500 (Mon, 03 Feb 2025) EllapsedTime: 242.1 seconds RetCode: 0 Status: OK CheckDir: SpatialExperimentIO.Rcheck Warnings: 0