Package: SpatialExperimentIO Version: 0.99.7 Command: /home/biocbuild/bbs-3.21-bioc/R/bin/R CMD check --install=check:SpatialExperimentIO.install-out.txt --library=/home/biocbuild/bbs-3.21-bioc/R/site-library --timings SpatialExperimentIO_0.99.7.tar.gz StartedAt: 2025-02-10 02:53:23 -0500 (Mon, 10 Feb 2025) EndedAt: 2025-02-10 02:57:26 -0500 (Mon, 10 Feb 2025) EllapsedTime: 243.2 seconds RetCode: 0 Status: OK CheckDir: SpatialExperimentIO.Rcheck Warnings: 0