Package: SpatialExperimentIO Version: 0.99.7 Command: chmod a+r SpatialExperimentIO -R && E:\biocbuild\bbs-3.21-bioc\R\bin\R.exe CMD build --keep-empty-dirs --no-resave-data SpatialExperimentIO StartedAt: 2025-02-03 22:00:51 -0500 (Mon, 03 Feb 2025) EndedAt: 2025-02-03 22:01:56 -0500 (Mon, 03 Feb 2025) EllapsedTime: 64.9 seconds RetCode: 0 Status: OK PackageFile: SpatialExperimentIO_0.99.7.tar.gz PackageFileSize: 608.2 KiB