Package: SpatialExperimentIO Version: 0.99.7 Command: E:\biocbuild\bbs-3.21-bioc\R\bin\R.exe CMD check --no-multiarch --install=check:SpatialExperimentIO.install-out.txt --library=E:\biocbuild\bbs-3.21-bioc\R\library --no-vignettes --timings SpatialExperimentIO_0.99.7.tar.gz StartedAt: 2025-02-10 05:41:38 -0500 (Mon, 10 Feb 2025) EndedAt: 2025-02-10 05:45:58 -0500 (Mon, 10 Feb 2025) EllapsedTime: 259.5 seconds RetCode: 0 Status: OK CheckDir: SpatialExperimentIO.Rcheck Warnings: 0