Package: SpatialExperimentIO Version: 0.99.7 Command: E:\biocbuild\bbs-3.21-bioc\R\bin\R.exe CMD INSTALL SpatialExperimentIO StartedAt: 2025-02-03 17:03:06 -0500 (Mon, 03 Feb 2025) EndedAt: 2025-02-03 17:03:58 -0500 (Mon, 03 Feb 2025) EllapsedTime: 52.2 seconds RetCode: 0 Status: OK