Package: SpatialFeatureExperiment Version: 1.9.7 Maintainer: Lambda Moses MaintainerEmail: dl3764 at columbia.edu git_url: https://git.bioconductor.org/packages/SpatialFeatureExperiment git_branch: devel git_last_commit: 8f09582 git_last_commit_date: 2025-01-28 14:20:39 -0500 (Tue, 28 Jan 2025)