Package: SpatialFeatureExperiment Version: 1.9.8 Command: /Library/Frameworks/R.framework/Resources/bin/R CMD build --keep-empty-dirs --no-resave-data SpatialFeatureExperiment StartedAt: 2025-02-09 17:41:34 -0500 (Sun, 09 Feb 2025) EndedAt: 2025-02-09 17:42:26 -0500 (Sun, 09 Feb 2025) EllapsedTime: 51.6 seconds RetCode: 0 Status: OK PackageFile: SpatialFeatureExperiment_1.9.8.tar.gz PackageFileSize: 1.813 MiB