Package: SpatialFeatureExperiment Version: 1.9.8 Command: /Library/Frameworks/R.framework/Resources/bin/R CMD check --install=check:SpatialFeatureExperiment.install-out.txt --library=/Library/Frameworks/R.framework/Resources/library --no-vignettes --timings SpatialFeatureExperiment_1.9.8.tar.gz StartedAt: 2025-02-09 21:30:34 -0500 (Sun, 09 Feb 2025) EndedAt: 2025-02-09 21:37:40 -0500 (Sun, 09 Feb 2025) EllapsedTime: 425.8 seconds RetCode: 1 Status: ERROR CheckDir: SpatialFeatureExperiment.Rcheck Warnings: NA