Package: SpatialFeatureExperiment Version: 1.9.7 Command: /home/biocbuild/R/R/bin/R CMD build --keep-empty-dirs --no-resave-data SpatialFeatureExperiment StartedAt: 2025-01-29 02:33:43 -0000 (Wed, 29 Jan 2025) EndedAt: 2025-01-29 02:33:46 -0000 (Wed, 29 Jan 2025) EllapsedTime: 3.0 seconds RetCode: 1 Status: ERROR PackageFile: None PackageFileSize: NA