Package: SpatialFeatureExperiment Version: 1.9.8 Command: rm -rf SpatialFeatureExperiment.buildbin-libdir && mkdir SpatialFeatureExperiment.buildbin-libdir && /Users/biocbuild/BBS/utils/build-universal.sh SpatialFeatureExperiment_1.9.8.tar.gz /Library/Frameworks/R.framework/Resources/bin/R SpatialFeatureExperiment.buildbin-libdir StartedAt: 2025-02-10 01:18:14 -0500 (Mon, 10 Feb 2025) EndedAt: 2025-02-10 01:19:38 -0500 (Mon, 10 Feb 2025) EllapsedTime: 83.5 seconds RetCode: 0 Status: OK PackageFile: SpatialFeatureExperiment_1.9.8.tgz PackageFileSize: 2.891 MiB