Package: SpatialFeatureExperiment Version: 1.9.7 Command: /Library/Frameworks/R.framework/Resources/bin/R CMD build --keep-empty-dirs --no-resave-data SpatialFeatureExperiment StartedAt: 2025-02-04 18:24:49 -0500 (Tue, 04 Feb 2025) EndedAt: 2025-02-04 18:27:25 -0500 (Tue, 04 Feb 2025) EllapsedTime: 156.3 seconds RetCode: 0 Status: OK PackageFile: SpatialFeatureExperiment_1.9.7.tar.gz PackageFileSize: 1.812 MiB