Package: SpatialFeatureExperiment Version: 1.9.8 Command: /Library/Frameworks/R.framework/Resources/bin/R CMD INSTALL SpatialFeatureExperiment StartedAt: 2025-02-09 15:33:55 -0500 (Sun, 09 Feb 2025) EndedAt: 2025-02-09 15:35:14 -0500 (Sun, 09 Feb 2025) EllapsedTime: 78.8 seconds RetCode: 0 Status: OK