Package: SpatialFeatureExperiment Version: 1.9.8 Command: /home/biocbuild/bbs-3.21-bioc/R/bin/R CMD build --keep-empty-dirs --no-resave-data SpatialFeatureExperiment StartedAt: 2025-02-09 19:23:58 -0500 (Sun, 09 Feb 2025) EndedAt: 2025-02-09 19:26:09 -0500 (Sun, 09 Feb 2025) EllapsedTime: 131.2 seconds RetCode: 0 Status: OK PackageFile: SpatialFeatureExperiment_1.9.8.tar.gz PackageFileSize: 1.81 MiB