Package: SpatialFeatureExperiment Version: 1.9.7 Command: chmod a+r SpatialFeatureExperiment -R && E:\biocbuild\bbs-3.21-bioc\R\bin\R.exe CMD build --keep-empty-dirs --no-resave-data SpatialFeatureExperiment StartedAt: 2025-02-04 21:51:26 -0500 (Tue, 04 Feb 2025) EndedAt: 2025-02-04 21:55:25 -0500 (Tue, 04 Feb 2025) EllapsedTime: 239.1 seconds RetCode: 0 Status: OK PackageFile: SpatialFeatureExperiment_1.9.7.tar.gz PackageFileSize: 1.584 MiB