############################################################################## ############################################################################## ### ### Running command: ### ### E:\biocbuild\bbs-3.21-bioc\R\bin\R.exe CMD check --no-multiarch --install=check:SpatialFeatureExperiment.install-out.txt --library=E:\biocbuild\bbs-3.21-bioc\R\library --no-vignettes --timings SpatialFeatureExperiment_1.9.8.tar.gz ### ############################################################################## ############################################################################## * using log directory 'E:/biocbuild/bbs-3.21-bioc/meat/SpatialFeatureExperiment.Rcheck' * using R Under development (unstable) (2025-01-21 r87610 ucrt) * using platform: x86_64-w64-mingw32 * R was compiled by gcc.exe (GCC) 13.3.0 GNU Fortran (GCC) 13.3.0 * running under: Windows Server 2022 x64 (build 20348) * using session charset: UTF-8 * using option '--no-vignettes' * checking for file 'SpatialFeatureExperiment/DESCRIPTION' ... OK * checking extension type ... Package * this is package 'SpatialFeatureExperiment' version '1.9.8' * package encoding: UTF-8 * checking package namespace information ... OK * checking package dependencies ... OK * checking if this is a source package ... OK * checking if there is a namespace ... OK * checking for hidden files and directories ... OK * checking for portable file names ... OK * checking whether package 'SpatialFeatureExperiment' can be installed ... OK * checking installed package size ... OK * checking package directory ... OK * checking 'build' directory ... OK * checking DESCRIPTION meta-information ... OK * checking top-level files ... OK * checking for left-over files ... OK * checking index information ... OK * checking package subdirectories ... OK * checking code files for non-ASCII characters ... OK * checking R files for syntax errors ... OK * checking whether the package can be loaded ... OK * checking whether the package can be loaded with stated dependencies ... OK * checking whether the package can be unloaded cleanly ... OK * checking whether the namespace can be loaded with stated dependencies ... OK * checking whether the namespace can be unloaded cleanly ... OK * checking whether startup messages can be suppressed ... OK * checking dependencies in R code ... NOTE Unexported objects imported by ':::' calls: 'S4Vectors:::disableValidity' 'spdep:::minmax.listw' See the note in ?`:::` about the use of this operator. * checking S3 generic/method consistency ... OK * checking replacement functions ... OK * checking foreign function calls ... OK * checking R code for possible problems ... NOTE .seu_to_sfe: warning in do.call(setdiff, arg = assays_n): partial argument match of 'arg' to 'args' .seu_to_sfe: warning in do.call(intersect, arg = assays_n): partial argument match of 'arg' to 'args' .seu_to_sfe : : warning in do.call(setdiff, arg = assays_n): partial argument match of 'arg' to 'args' .filter_polygons: no visible binding for global variable 'gmax' .filter_polygons: no visible binding for global variable 'area' .filter_polygons: no visible binding for global variable 'name' .filter_polygons: no visible binding for global variable 'gi' .filter_polygons: no visible binding for global variable '.N' .filter_polygons: no visible binding for global variable 'i' .filter_polygons: no visible binding for global variable '.I' .filter_polygons: no visible binding for global variable 'ID_row' .no_raw_bytes: no visible binding for global variable 'xoa_version' .no_raw_bytes: no visible binding for global variable 'major_version' .no_raw_bytes: no visible binding for global variable 'minor_version' .no_raw_bytes: no visible binding for global variable 'instrument_version' addTxTech: no visible binding for global variable 'gene_col' addTxTech: no visible binding for global variable 'cell_col' addTxTech: no visible binding for global variable 'fn' aggregateTxTech: no visible binding for global variable 'gene_col' aggregateTxTech: no visible binding for global variable 'cell_col' aggregateTxTech: no visible binding for global variable 'fn' aggregateTxTech: no visible binding for global variable 'xoa_version' aggregateTxTech: no visible binding for global variable 'major_version' aggregateTxTech: no visible binding for global variable 'minor_version' aggregateTxTech: no visible binding for global variable 'instrument_version' findVisiumHDGraph: no visible binding for global variable '..cols' formatTxTech: no visible binding for global variable 'gene_col' formatTxTech: no visible binding for global variable 'cell_col' formatTxTech: no visible binding for global variable 'fn' readVizgen: no visible binding for global variable 'img_df' readXenium: no visible binding for global variable 'xoa_version' readXenium: no visible binding for global variable 'major_version' readXenium: no visible binding for global variable 'minor_version' readXenium: no visible binding for global variable 'instrument_version' readXenium: no visible binding for global variable 'img_df' Undefined global functions or variables: ..cols .I .N ID_row area cell_col fn gene_col gi gmax i img_df instrument_version major_version minor_version name xoa_version * checking Rd files ... OK * checking Rd metadata ... OK * checking Rd cross-references ... NOTE Found the following Rd file(s) with Rd \link{} targets missing package anchors: SpatialFeatureExperiment-coercion.Rd: DataFrame SpatialFeatureExperiment.Rd: DataFrame Please provide package anchors for all Rd \link{} targets not in the package itself and the base packages. * checking for missing documentation entries ... OK * checking for code/documentation mismatches ... OK * checking Rd \usage sections ... OK * checking Rd contents ... OK * checking for unstated dependencies in examples ... OK * checking contents of 'data' directory ... OK * checking data for non-ASCII characters ... OK * checking data for ASCII and uncompressed saves ... OK * checking R/sysdata.rda ... OK * checking files in 'vignettes' ... OK * checking examples ... OK Examples with CPU (user + system) or elapsed time > 5s user system elapsed Img-set-SpatialExperiment-method 20.18 3.05 22.23 formatTxSpots 21.33 1.39 24.83 readXenium 11.33 0.71 12.34 rowGeometries 9.19 0.58 10.21 removeEmptySpace 7.90 0.60 8.96 dimGeometries 7.71 0.61 8.50 spatialGraphs 7.14 0.61 7.97 findSpatialNeighbors-SpatialFeatureExperiment-method 6.04 0.58 6.81 cbind-SpatialFeatureExperiment-method 5.73 0.63 6.61 findVisiumGraph 5.53 0.59 6.52 getParams 4.85 0.32 5.32 SFE-transform 4.39 0.53 5.03 * checking for unstated dependencies in 'tests' ... OK * checking tests ... Running 'testthat.R' OK * checking for unstated dependencies in vignettes ... OK * checking package vignettes ... OK * checking running R code from vignettes ... SKIPPED * checking re-building of vignette outputs ... SKIPPED * checking PDF version of manual ... OK * DONE Status: 3 NOTEs See 'E:/biocbuild/bbs-3.21-bioc/meat/SpatialFeatureExperiment.Rcheck/00check.log' for details.