Package: SpatialFeatureExperiment Version: 1.9.7 Command: E:\biocbuild\bbs-3.21-bioc\R\bin\R.exe CMD check --no-multiarch --install=check:SpatialFeatureExperiment.install-out.txt --library=E:\biocbuild\bbs-3.21-bioc\R\library --no-vignettes --timings SpatialFeatureExperiment_1.9.7.tar.gz StartedAt: 2025-02-05 06:05:46 -0500 (Wed, 05 Feb 2025) EndedAt: 2025-02-05 06:30:48 -0500 (Wed, 05 Feb 2025) EllapsedTime: 1501.8 seconds RetCode: 0 Status: WARNINGS CheckDir: SpatialFeatureExperiment.Rcheck Warnings: 1