Package: SpatialFeatureExperiment Version: 1.9.7 Command: E:\biocbuild\bbs-3.21-bioc\R\bin\R.exe CMD INSTALL SpatialFeatureExperiment StartedAt: 2025-02-04 16:32:15 -0500 (Tue, 04 Feb 2025) EndedAt: 2025-02-04 16:49:11 -0500 (Tue, 04 Feb 2025) EllapsedTime: 1016.0 seconds RetCode: 0 Status: OK