Package: SpatialOmicsOverlay Version: 1.7.0 Command: rm -rf SpatialOmicsOverlay.buildbin-libdir && mkdir SpatialOmicsOverlay.buildbin-libdir && /Users/biocbuild/BBS/utils/build-universal.sh SpatialOmicsOverlay_1.7.0.tar.gz /Library/Frameworks/R.framework/Resources/bin/R SpatialOmicsOverlay.buildbin-libdir StartedAt: 2025-02-04 22:33:52 -0500 (Tue, 04 Feb 2025) EndedAt: 2025-02-04 22:34:05 -0500 (Tue, 04 Feb 2025) EllapsedTime: 13.4 seconds RetCode: 0 Status: OK PackageFile: SpatialOmicsOverlay_1.7.0.tgz PackageFileSize: 4.681 MiB