Package: SpatialOmicsOverlay Version: 1.7.0 Command: /Library/Frameworks/R.framework/Resources/bin/R CMD build --keep-empty-dirs --no-resave-data SpatialOmicsOverlay StartedAt: 2025-02-04 17:41:54 -0500 (Tue, 04 Feb 2025) EndedAt: 2025-02-04 17:44:45 -0500 (Tue, 04 Feb 2025) EllapsedTime: 170.9 seconds RetCode: 0 Status: OK PackageFile: SpatialOmicsOverlay_1.7.0.tar.gz PackageFileSize: 4.498 MiB