Package: SpatialOmicsOverlay Version: 1.7.0 Command: /Library/Frameworks/R.framework/Resources/bin/R CMD check --install=check:SpatialOmicsOverlay.install-out.txt --library=/Library/Frameworks/R.framework/Resources/library --no-vignettes --timings SpatialOmicsOverlay_1.7.0.tar.gz StartedAt: 2025-02-04 21:33:12 -0500 (Tue, 04 Feb 2025) EndedAt: 2025-02-04 21:36:08 -0500 (Tue, 04 Feb 2025) EllapsedTime: 175.9 seconds RetCode: 0 Status: OK CheckDir: SpatialOmicsOverlay.Rcheck Warnings: 0