Package: SpatialOmicsOverlay Version: 1.7.0 Command: /home/biocbuild/R/R/bin/R CMD build --keep-empty-dirs --no-resave-data SpatialOmicsOverlay StartedAt: 2025-01-28 02:38:52 -0000 (Tue, 28 Jan 2025) EndedAt: 2025-01-28 02:52:26 -0000 (Tue, 28 Jan 2025) EllapsedTime: 814.4 seconds RetCode: 0 Status: OK PackageFile: SpatialOmicsOverlay_1.7.0.tar.gz PackageFileSize: 4.192 MiB