Package: SpatialOmicsOverlay Version: 1.7.0 Command: rm -rf SpatialOmicsOverlay.buildbin-libdir && mkdir SpatialOmicsOverlay.buildbin-libdir && /Users/biocbuild/BBS/utils/build-universal.sh SpatialOmicsOverlay_1.7.0.tar.gz /Library/Frameworks/R.framework/Resources/bin/R SpatialOmicsOverlay.buildbin-libdir StartedAt: 2025-02-05 01:04:04 -0500 (Wed, 05 Feb 2025) EndedAt: 2025-02-05 01:04:49 -0500 (Wed, 05 Feb 2025) EllapsedTime: 45.2 seconds RetCode: 0 Status: OK PackageFile: SpatialOmicsOverlay_1.7.0.tgz PackageFileSize: 4.68 MiB