Package: SpatialOmicsOverlay Version: 1.7.0 Command: /Library/Frameworks/R.framework/Resources/bin/R CMD build --keep-empty-dirs --no-resave-data SpatialOmicsOverlay StartedAt: 2025-02-04 18:25:00 -0500 (Tue, 04 Feb 2025) EndedAt: 2025-02-04 18:32:27 -0500 (Tue, 04 Feb 2025) EllapsedTime: 447.0 seconds RetCode: 0 Status: OK PackageFile: SpatialOmicsOverlay_1.7.0.tar.gz PackageFileSize: 4.497 MiB