Package: SpatialOmicsOverlay Version: 1.7.0 Command: /Library/Frameworks/R.framework/Resources/bin/R CMD INSTALL SpatialOmicsOverlay StartedAt: 2025-02-04 15:26:14 -0500 (Tue, 04 Feb 2025) EndedAt: 2025-02-04 15:26:56 -0500 (Tue, 04 Feb 2025) EllapsedTime: 42.4 seconds RetCode: 0 Status: OK