Package: SpatialOmicsOverlay Version: 1.7.0 Command: /home/biocbuild/bbs-3.21-bioc/R/bin/R CMD build --keep-empty-dirs --no-resave-data SpatialOmicsOverlay StartedAt: 2025-02-04 19:21:42 -0500 (Tue, 04 Feb 2025) EndedAt: 2025-02-04 19:29:35 -0500 (Tue, 04 Feb 2025) EllapsedTime: 473.6 seconds RetCode: 0 Status: OK PackageFile: SpatialOmicsOverlay_1.7.0.tar.gz PackageFileSize: 4.349 MiB